Package: SpotClean Version: 1.8.0 Command: /home/biocbuild/R/R/bin/R CMD INSTALL SpotClean StartedAt: 2025-01-27 21:50:48 -0000 (Mon, 27 Jan 2025) EndedAt: 2025-01-27 21:51:36 -0000 (Mon, 27 Jan 2025) EllapsedTime: 47.7 seconds RetCode: 0 Status: OK