Package: SpotClean Version: 1.8.0 Command: F:\biocbuild\bbs-3.20-bioc\R\bin\R.exe CMD INSTALL SpotClean StartedAt: 2025-03-31 16:43:07 -0400 (Mon, 31 Mar 2025) EndedAt: 2025-03-31 16:43:58 -0400 (Mon, 31 Mar 2025) EllapsedTime: 50.8 seconds RetCode: 0 Status: OK