Package: SpotClean Version: 1.8.0 Command: chmod a+r SpotClean -R && F:\biocbuild\bbs-3.20-bioc\R\bin\R.exe CMD build --keep-empty-dirs --no-resave-data SpotClean StartedAt: 2025-01-27 22:10:38 -0500 (Mon, 27 Jan 2025) EndedAt: 2025-01-27 22:15:17 -0500 (Mon, 27 Jan 2025) EllapsedTime: 279.6 seconds RetCode: 0 Status: OK PackageFile: SpotClean_1.8.0.tar.gz PackageFileSize: 2.364 MiB