Package: SpotClean Version: 1.8.0 Command: rm -rf SpotClean.buildbin-libdir && mkdir SpotClean.buildbin-libdir && F:\biocbuild\bbs-3.20-bioc\R\bin\R.exe CMD INSTALL --build --library=SpotClean.buildbin-libdir SpotClean_1.8.0.tar.gz StartedAt: 2025-01-28 09:15:01 -0500 (Tue, 28 Jan 2025) EndedAt: 2025-01-28 09:15:49 -0500 (Tue, 28 Jan 2025) EllapsedTime: 47.7 seconds RetCode: 0 Status: OK PackageFile: SpotClean_1.8.0.zip PackageFileSize: 2.427 MiB