Package: SpotClean Version: 1.8.0 Command: /home/biocbuild/bbs-3.20-bioc/R/bin/R CMD build --keep-empty-dirs --no-resave-data --md5 SpotClean StartedAt: 2025-03-31 19:16:59 -0400 (Mon, 31 Mar 2025) EndedAt: 2025-03-31 19:20:49 -0400 (Mon, 31 Mar 2025) EllapsedTime: 230.3 seconds RetCode: 0 Status: OK PackageFile: SpotClean_1.8.0.tar.gz PackageFileSize: 3.916 MiB