Package: SpotClean Version: 1.8.0 Command: /Library/Frameworks/R.framework/Resources/bin/R CMD build --keep-empty-dirs --no-resave-data SpotClean StartedAt: 2025-04-01 08:36:08 -0400 (Tue, 01 Apr 2025) EndedAt: 2025-04-01 08:40:52 -0400 (Tue, 01 Apr 2025) EllapsedTime: 283.4 seconds RetCode: 0 Status: OK PackageFile: SpotClean_1.8.0.tar.gz PackageFileSize: 4.273 MiB