Package: SpotClean Version: 1.8.0 Command: rm -rf SpotClean.buildbin-libdir && mkdir SpotClean.buildbin-libdir && /Users/biocbuild/BBS/utils/build-universal.sh SpotClean_1.8.0.tar.gz /Library/Frameworks/R.framework/Resources/bin/R SpotClean.buildbin-libdir StartedAt: 2025-04-02 16:29:57 -0400 (Wed, 02 Apr 2025) EndedAt: 2025-04-02 16:30:46 -0400 (Wed, 02 Apr 2025) EllapsedTime: 48.7 seconds RetCode: 0 Status: OK PackageFile: SpotClean_1.8.0.tgz PackageFileSize: 4.336 MiB