Package: SplicingGraphs Version: 1.46.0 Command: /Library/Frameworks/R.framework/Resources/bin/R CMD INSTALL SplicingGraphs StartedAt: 2025-03-31 15:32:41 -0400 (Mon, 31 Mar 2025) EndedAt: 2025-03-31 15:34:16 -0400 (Mon, 31 Mar 2025) EllapsedTime: 94.8 seconds RetCode: 0 Status: OK