Package: SplicingFactory Version: 1.14.0 Command: /Library/Frameworks/R.framework/Resources/bin/R CMD check --install=check:SplicingFactory.install-out.txt --library=/Library/Frameworks/R.framework/Resources/library --no-vignettes --timings SplicingFactory_1.14.0.tar.gz StartedAt: 2025-04-01 09:40:15 -0400 (Tue, 01 Apr 2025) EndedAt: 2025-04-01 09:45:06 -0400 (Tue, 01 Apr 2025) EllapsedTime: 290.7 seconds RetCode: 0 Status: OK CheckDir: SplicingFactory.Rcheck Warnings: 0