Package: SplicingFactory Version: 1.14.0 Command: rm -rf SplicingFactory.buildbin-libdir && mkdir SplicingFactory.buildbin-libdir && /Users/biocbuild/BBS/utils/build-universal.sh SplicingFactory_1.14.0.tar.gz /Library/Frameworks/R.framework/Resources/bin/R SplicingFactory.buildbin-libdir StartedAt: 2025-01-28 14:41:08 -0500 (Tue, 28 Jan 2025) EndedAt: 2025-01-28 14:42:04 -0500 (Tue, 28 Jan 2025) EllapsedTime: 55.7 seconds RetCode: 0 Status: OK PackageFile: SplicingFactory_1.14.0.tgz PackageFileSize: 827.7 KiB