Package: SplicingFactory Version: 1.14.0 Command: /Library/Frameworks/R.framework/Resources/bin/R CMD check --install=check:SplicingFactory.install-out.txt --library=/Library/Frameworks/R.framework/Resources/library --no-vignettes --timings SplicingFactory_1.14.0.tar.gz StartedAt: 2024-11-20 03:01:38 -0500 (Wed, 20 Nov 2024) EndedAt: 2024-11-20 03:07:25 -0500 (Wed, 20 Nov 2024) EllapsedTime: 347.1 seconds RetCode: 0 Status: OK CheckDir: SplicingFactory.Rcheck Warnings: 0