Package: SpliceWiz Version: 1.8.0 Command: /home/biocbuild/bbs-3.20-bioc/R/bin/R CMD check --install=check:SpliceWiz.install-out.txt --library=/home/biocbuild/bbs-3.20-bioc/R/site-library --timings SpliceWiz_1.8.0.tar.gz StartedAt: 2025-04-01 02:33:06 -0400 (Tue, 01 Apr 2025) EndedAt: 2025-04-01 02:51:11 -0400 (Tue, 01 Apr 2025) EllapsedTime: 1085.1 seconds RetCode: 0 Status: OK CheckDir: SpliceWiz.Rcheck Warnings: 0