Package: SpliceWiz Version: 1.8.0 Command: /Library/Frameworks/R.framework/Resources/bin/R CMD check --install=check:SpliceWiz.install-out.txt --library=/Library/Frameworks/R.framework/Resources/library --no-vignettes --timings SpliceWiz_1.8.0.tar.gz StartedAt: 2025-04-02 10:01:32 -0400 (Wed, 02 Apr 2025) EndedAt: 2025-04-02 10:23:48 -0400 (Wed, 02 Apr 2025) EllapsedTime: 1336.6 seconds RetCode: 0 Status: OK CheckDir: SpliceWiz.Rcheck Warnings: 0