Package: SpectralTAD Version: 1.22.0 Command: /home/biocbuild/R/R/bin/R CMD build --keep-empty-dirs --no-resave-data SpectralTAD StartedAt: 2025-04-01 02:53:57 -0000 (Tue, 01 Apr 2025) EndedAt: 2025-04-01 02:56:07 -0000 (Tue, 01 Apr 2025) EllapsedTime: 130.1 seconds RetCode: 0 Status: OK PackageFile: SpectralTAD_1.22.0.tar.gz PackageFileSize: 1.515 MiB