Package: SpectralTAD Version: 1.22.0 Command: /Library/Frameworks/R.framework/Resources/bin/R CMD build --keep-empty-dirs --no-resave-data SpectralTAD StartedAt: 2025-01-28 08:41:17 -0500 (Tue, 28 Jan 2025) EndedAt: 2025-01-28 08:43:17 -0500 (Tue, 28 Jan 2025) EllapsedTime: 119.1 seconds RetCode: 0 Status: OK PackageFile: SpectralTAD_1.22.0.tar.gz PackageFileSize: 1.492 MiB