Package: SpectralTAD Version: 1.22.0 Command: rm -rf SpectralTAD.buildbin-libdir && mkdir SpectralTAD.buildbin-libdir && /Users/biocbuild/BBS/utils/build-universal.sh SpectralTAD_1.22.0.tar.gz /Library/Frameworks/R.framework/Resources/bin/R SpectralTAD.buildbin-libdir StartedAt: 2025-04-02 16:28:36 -0400 (Wed, 02 Apr 2025) EndedAt: 2025-04-02 16:28:51 -0400 (Wed, 02 Apr 2025) EllapsedTime: 15.0 seconds RetCode: 0 Status: OK PackageFile: SpectralTAD_1.22.0.tgz PackageFileSize: 1.472 MiB