Package: SpectraQL Version: 1.0.0 Command: /home/biocbuild/R/R/bin/R CMD check --install=check:SpectraQL.install-out.txt --library=/home/biocbuild/R/R/site-library --no-vignettes --timings SpectraQL_1.0.0.tar.gz StartedAt: 2025-02-04 11:20:11 -0000 (Tue, 04 Feb 2025) EndedAt: 2025-02-04 11:21:44 -0000 (Tue, 04 Feb 2025) EllapsedTime: 93.1 seconds RetCode: 0 Status: OK CheckDir: SpectraQL.Rcheck Warnings: 0