Package: SpectraQL Version: 1.0.0 Command: /home/biocbuild/bbs-3.20-bioc/R/bin/R CMD INSTALL SpectraQL StartedAt: 2025-03-31 15:20:45 -0400 (Mon, 31 Mar 2025) EndedAt: 2025-03-31 15:20:53 -0400 (Mon, 31 Mar 2025) EllapsedTime: 7.8 seconds RetCode: 0 Status: OK