Package: SpectraQL Version: 1.0.0 Command: /Library/Frameworks/R.framework/Resources/bin/R CMD INSTALL SpectraQL StartedAt: 2025-01-27 15:50:23 -0500 (Mon, 27 Jan 2025) EndedAt: 2025-01-27 15:50:34 -0500 (Mon, 27 Jan 2025) EllapsedTime: 10.6 seconds RetCode: 0 Status: OK