Package: Spectra Version: 1.16.0 Command: /home/biocbuild/bbs-3.20-bioc/R/bin/R CMD INSTALL Spectra StartedAt: 2025-01-27 16:08:20 -0500 (Mon, 27 Jan 2025) EndedAt: 2025-01-27 16:08:34 -0500 (Mon, 27 Jan 2025) EllapsedTime: 13.8 seconds RetCode: 0 Status: OK