Package: Spectra Version: 1.16.1 Command: /home/biocbuild/bbs-3.20-bioc/R/bin/R CMD build --keep-empty-dirs --no-resave-data --md5 Spectra StartedAt: 2025-03-31 19:15:29 -0400 (Mon, 31 Mar 2025) EndedAt: 2025-03-31 19:16:17 -0400 (Mon, 31 Mar 2025) EllapsedTime: 48.1 seconds RetCode: 0 Status: OK PackageFile: Spectra_1.16.1.tar.gz PackageFileSize: 1.807 MiB