Package: Spectra Version: 1.16.0 Command: /Library/Frameworks/R.framework/Resources/bin/R CMD build --keep-empty-dirs --no-resave-data Spectra StartedAt: 2025-01-27 22:51:23 -0500 (Mon, 27 Jan 2025) EndedAt: 2025-01-27 22:53:27 -0500 (Mon, 27 Jan 2025) EllapsedTime: 124.1 seconds RetCode: 0 Status: OK PackageFile: Spectra_1.16.0.tar.gz PackageFileSize: 1.513 MiB