Package: Spectra Version: 1.16.0 Command: /home/biocbuild/R/R/bin/R CMD build --keep-empty-dirs --no-resave-data Spectra StartedAt: 2024-11-20 04:11:01 -0000 (Wed, 20 Nov 2024) EndedAt: 2024-11-20 04:12:18 -0000 (Wed, 20 Nov 2024) EllapsedTime: 77.1 seconds RetCode: 0 Status: OK PackageFile: Spectra_1.16.0.tar.gz PackageFileSize: 1.644 MiB