Package: Spectra Version: 1.16.1 Command: /Library/Frameworks/R.framework/Resources/bin/R CMD INSTALL Spectra StartedAt: 2025-03-31 15:49:52 -0400 (Mon, 31 Mar 2025) EndedAt: 2025-03-31 15:50:09 -0400 (Mon, 31 Mar 2025) EllapsedTime: 16.1 seconds RetCode: 0 Status: OK