Package: SpeCond Version: 1.60.0 Command: chmod a+r SpeCond -R && F:\biocbuild\bbs-3.20-bioc\R\bin\R.exe CMD build --keep-empty-dirs --no-resave-data SpeCond StartedAt: 2025-02-03 22:20:08 -0500 (Mon, 03 Feb 2025) EndedAt: 2025-02-03 22:21:20 -0500 (Mon, 03 Feb 2025) EllapsedTime: 72.7 seconds RetCode: 0 Status: OK PackageFile: SpeCond_1.60.0.tar.gz PackageFileSize: 1.701 MiB