Package: SpeCond Version: 1.59.0 Command: rm -rf SpeCond.buildbin-libdir && mkdir SpeCond.buildbin-libdir && F:\biocbuild\bbs-3.20-bioc\R\bin\R.exe CMD INSTALL --build --library=SpeCond.buildbin-libdir SpeCond_1.59.0.tar.gz StartedAt: 2024-06-10 15:13:49 -0400 (Mon, 10 Jun 2024) EndedAt: 2024-06-10 15:14:39 -0400 (Mon, 10 Jun 2024) EllapsedTime: 50.1 seconds RetCode: 0 Status: OK PackageFile: SpeCond_1.59.0.zip PackageFileSize: 1.198 MiB