Package: SpeCond Version: 1.60.0 Command: /Library/Frameworks/R.framework/Resources/bin/R CMD INSTALL SpeCond StartedAt: 2025-03-31 15:37:20 -0400 (Mon, 31 Mar 2025) EndedAt: 2025-03-31 15:37:28 -0400 (Mon, 31 Mar 2025) EllapsedTime: 7.8 seconds RetCode: 0 Status: OK