Package: SpatialFeatureExperiment Version: 1.8.6 Command: /home/biocbuild/R/R/bin/R CMD INSTALL SpatialFeatureExperiment StartedAt: 2025-03-31 20:55:29 -0000 (Mon, 31 Mar 2025) EndedAt: 2025-03-31 20:55:30 -0000 (Mon, 31 Mar 2025) EllapsedTime: 1.1 seconds RetCode: 1 Status: ERROR