Package: SpatialFeatureExperiment Version: 1.8.6 Maintainer: Lambda Moses MaintainerEmail: dl3764 at columbia.edu git_url: https://git.bioconductor.org/packages/SpatialFeatureExperiment git_branch: RELEASE_3_20 git_last_commit: af85a1c git_last_commit_date: 2025-01-28 14:21:31 -0400 (Tue, 28 Jan 2025)