Package: SpatialDecon Version: 1.16.0 Command: /home/biocbuild/R/R/bin/R CMD check --install=check:SpatialDecon.install-out.txt --library=/home/biocbuild/R/R/site-library --no-vignettes --timings SpatialDecon_1.16.0.tar.gz StartedAt: 2025-01-28 11:30:47 -0000 (Tue, 28 Jan 2025) EndedAt: 2025-01-28 11:44:05 -0000 (Tue, 28 Jan 2025) EllapsedTime: 797.9 seconds RetCode: 1 Status: ERROR CheckDir: SpatialDecon.Rcheck Warnings: NA