Package: SpatialDecon Version: 1.16.0 Command: /home/biocbuild/R/R/bin/R CMD build --keep-empty-dirs --no-resave-data SpatialDecon StartedAt: 2025-04-01 02:51:59 -0000 (Tue, 01 Apr 2025) EndedAt: 2025-04-01 02:56:02 -0000 (Tue, 01 Apr 2025) EllapsedTime: 243.2 seconds RetCode: 0 Status: OK PackageFile: SpatialDecon_1.16.0.tar.gz PackageFileSize: 4.385 MiB