Package: SpatialDecon Version: 1.16.0 Command: /home/biocbuild/bbs-3.20-bioc/R/bin/R CMD INSTALL SpatialDecon StartedAt: 2025-01-27 16:25:50 -0500 (Mon, 27 Jan 2025) EndedAt: 2025-01-27 16:26:15 -0500 (Mon, 27 Jan 2025) EllapsedTime: 25.2 seconds RetCode: 0 Status: OK