Package: SpatialDecon Version: 1.16.0 Command: /home/biocbuild/bbs-3.20-bioc/R/bin/R CMD check --install=check:SpatialDecon.install-out.txt --library=/home/biocbuild/bbs-3.20-bioc/R/site-library --timings SpatialDecon_1.16.0.tar.gz StartedAt: 2025-04-01 02:27:56 -0400 (Tue, 01 Apr 2025) EndedAt: 2025-04-01 02:38:50 -0400 (Tue, 01 Apr 2025) EllapsedTime: 653.6 seconds RetCode: 0 Status: OK CheckDir: SpatialDecon.Rcheck Warnings: 0