Package: SpatialDecon Version: 1.16.0 Command: /Library/Frameworks/R.framework/Resources/bin/R CMD INSTALL SpatialDecon StartedAt: 2025-01-27 16:42:23 -0500 (Mon, 27 Jan 2025) EndedAt: 2025-01-27 16:42:51 -0500 (Mon, 27 Jan 2025) EllapsedTime: 28.2 seconds RetCode: 0 Status: OK