Package: SpatialDecon Version: 1.16.0 Command: /Library/Frameworks/R.framework/Resources/bin/R CMD build --keep-empty-dirs --no-resave-data SpatialDecon StartedAt: 2025-02-04 08:50:03 -0500 (Tue, 04 Feb 2025) EndedAt: 2025-02-04 08:52:58 -0500 (Tue, 04 Feb 2025) EllapsedTime: 174.9 seconds RetCode: 0 Status: OK PackageFile: SpatialDecon_1.16.0.tar.gz PackageFileSize: 5.28 MiB