Package: SpatialCPie Version: 1.22.0 Command: /home/biocbuild/R/R/bin/R CMD check --install=check:SpatialCPie.install-out.txt --library=/home/biocbuild/R/R/site-library --no-vignettes --timings SpatialCPie_1.22.0.tar.gz StartedAt: 2025-01-28 11:30:07 -0000 (Tue, 28 Jan 2025) EndedAt: 2025-01-28 11:33:19 -0000 (Tue, 28 Jan 2025) EllapsedTime: 192.2 seconds RetCode: 0 Status: OK CheckDir: SpatialCPie.Rcheck Warnings: 0