Package: SpatialCPie Version: 1.22.0 Command: F:\biocbuild\bbs-3.20-bioc\R\bin\R.exe CMD INSTALL SpatialCPie StartedAt: 2025-01-27 15:55:57 -0500 (Mon, 27 Jan 2025) EndedAt: 2025-01-27 15:56:31 -0500 (Mon, 27 Jan 2025) EllapsedTime: 34.0 seconds RetCode: 0 Status: OK