Package: SpatialCPie Version: 1.22.0 Command: /Library/Frameworks/R.framework/Resources/bin/R CMD check --install=check:SpatialCPie.install-out.txt --library=/Library/Frameworks/R.framework/Resources/library --no-vignettes --timings SpatialCPie_1.22.0.tar.gz StartedAt: 2025-01-28 10:39:00 -0500 (Tue, 28 Jan 2025) EndedAt: 2025-01-28 10:44:56 -0500 (Tue, 28 Jan 2025) EllapsedTime: 355.8 seconds RetCode: 0 Status: OK CheckDir: SpatialCPie.Rcheck Warnings: 0