Package: SparseSignatures Version: 2.16.0 Command: /home/biocbuild/bbs-3.20-bioc/R/bin/R CMD INSTALL SparseSignatures StartedAt: 2025-01-27 16:20:05 -0500 (Mon, 27 Jan 2025) EndedAt: 2025-01-27 16:20:47 -0500 (Mon, 27 Jan 2025) EllapsedTime: 42.2 seconds RetCode: 0 Status: OK