Package: SparseSignatures Version: 2.16.0 Command: /Library/Frameworks/R.framework/Resources/bin/R CMD INSTALL SparseSignatures StartedAt: 2025-03-31 15:44:34 -0400 (Mon, 31 Mar 2025) EndedAt: 2025-03-31 15:45:52 -0400 (Mon, 31 Mar 2025) EllapsedTime: 78.3 seconds RetCode: 0 Status: OK