Package: SparseSignatures Version: 2.16.0 Command: rm -rf SparseSignatures.buildbin-libdir && mkdir SparseSignatures.buildbin-libdir && /Users/biocbuild/BBS/utils/build-universal.sh SparseSignatures_2.16.0.tar.gz /Library/Frameworks/R.framework/Resources/bin/R SparseSignatures.buildbin-libdir StartedAt: 2025-04-01 12:49:39 -0400 (Tue, 01 Apr 2025) EndedAt: 2025-04-01 12:51:01 -0400 (Tue, 01 Apr 2025) EllapsedTime: 82.7 seconds RetCode: 0 Status: OK PackageFile: SparseSignatures_2.16.0.tgz PackageFileSize: 1.589 MiB