Package: SparseSignatures Version: 2.16.0 Command: rm -rf SparseSignatures.buildbin-libdir && mkdir SparseSignatures.buildbin-libdir && /Users/biocbuild/BBS/utils/build-universal.sh SparseSignatures_2.16.0.tar.gz /Library/Frameworks/R.framework/Resources/bin/R SparseSignatures.buildbin-libdir StartedAt: 2025-01-29 16:43:11 -0500 (Wed, 29 Jan 2025) EndedAt: 2025-01-29 16:44:01 -0500 (Wed, 29 Jan 2025) EllapsedTime: 50.6 seconds RetCode: 0 Status: OK PackageFile: SparseSignatures_2.16.0.tgz PackageFileSize: 1.588 MiB