Package: SparseArray Version: 1.6.1 Command: /home/biocbuild/R/R/bin/R CMD INSTALL SparseArray StartedAt: 2025-01-27 21:07:50 -0000 (Mon, 27 Jan 2025) EndedAt: 2025-01-27 21:08:40 -0000 (Mon, 27 Jan 2025) EllapsedTime: 50.3 seconds RetCode: 0 Status: OK