Package: SparseArray Version: 1.6.2 Command: F:\biocbuild\bbs-3.20-bioc\R\bin\R.exe CMD INSTALL SparseArray StartedAt: 2025-03-31 15:35:27 -0400 (Mon, 31 Mar 2025) EndedAt: 2025-03-31 15:39:37 -0400 (Mon, 31 Mar 2025) EllapsedTime: 250.1 seconds RetCode: 0 Status: OK