Package: SparseArray Version: 1.6.2 Command: rm -rf SparseArray.buildbin-libdir && mkdir SparseArray.buildbin-libdir && /Users/biocbuild/BBS/utils/build-universal.sh SparseArray_1.6.2.tar.gz /Library/Frameworks/R.framework/Resources/bin/R SparseArray.buildbin-libdir StartedAt: 2025-04-02 16:26:42 -0400 (Wed, 02 Apr 2025) EndedAt: 2025-04-02 16:27:23 -0400 (Wed, 02 Apr 2025) EllapsedTime: 41.0 seconds RetCode: 0 Status: OK PackageFile: SparseArray_1.6.2.tgz PackageFileSize: 1.768 MiB