Package: Spaniel Version: 1.20.0 Command: /home/biocbuild/R/R/bin/R CMD build --keep-empty-dirs --no-resave-data Spaniel StartedAt: 2025-02-04 03:09:00 -0000 (Tue, 04 Feb 2025) EndedAt: 2025-02-04 03:13:28 -0000 (Tue, 04 Feb 2025) EllapsedTime: 268.4 seconds RetCode: 0 Status: OK PackageFile: Spaniel_1.20.0.tar.gz PackageFileSize: 2.817 MiB