Package: Spaniel Version: 1.20.0 Command: /home/biocbuild/bbs-3.20-bioc/R/bin/R CMD check --install=check:Spaniel.install-out.txt --library=/home/biocbuild/bbs-3.20-bioc/R/site-library --timings Spaniel_1.20.0.tar.gz StartedAt: 2025-02-04 02:40:52 -0500 (Tue, 04 Feb 2025) EndedAt: 2025-02-04 02:47:12 -0500 (Tue, 04 Feb 2025) EllapsedTime: 380.3 seconds RetCode: 0 Status: OK CheckDir: Spaniel.Rcheck Warnings: 0