Package: Spaniel Version: 1.20.0 Command: /Library/Frameworks/R.framework/Resources/bin/R CMD INSTALL Spaniel StartedAt: 2024-11-19 15:42:35 -0500 (Tue, 19 Nov 2024) EndedAt: 2024-11-19 15:43:31 -0500 (Tue, 19 Nov 2024) EllapsedTime: 56.0 seconds RetCode: 0 Status: OK