Package: Spaniel Version: 1.20.0 Command: /Library/Frameworks/R.framework/Resources/bin/R CMD build --keep-empty-dirs --no-resave-data Spaniel StartedAt: 2024-11-19 18:46:09 -0500 (Tue, 19 Nov 2024) EndedAt: 2024-11-19 18:49:21 -0500 (Tue, 19 Nov 2024) EllapsedTime: 192.1 seconds RetCode: 0 Status: OK PackageFile: Spaniel_1.20.0.tar.gz PackageFileSize: 4.47 MiB