Package: SpacePAC Version: 1.44.0 Command: /Library/Frameworks/R.framework/Resources/bin/R CMD check --install=check:SpacePAC.install-out.txt --library=/Library/Frameworks/R.framework/Resources/library --no-vignettes --timings SpacePAC_1.44.0.tar.gz StartedAt: 2025-02-01 10:00:21 -0500 (Sat, 01 Feb 2025) EndedAt: 2025-02-01 10:02:17 -0500 (Sat, 01 Feb 2025) EllapsedTime: 116.0 seconds RetCode: 0 Status: OK CheckDir: SpacePAC.Rcheck Warnings: 0